BEGIN:VCALENDAR
VERSION:2.0
PRODID:-//Department of Economics at Columbia University - ECPv4.6.23//NONSGML v1.0//EN
CALSCALE:GREGORIAN
METHOD:PUBLISH
X-WR-CALNAME:Department of Economics at Columbia University
X-ORIGINAL-URL:https://econ.columbia.edu
X-WR-CALDESC:Events for Department of Economics at Columbia University
BEGIN:VEVENT
DTSTART;TZID=America/New_York:20181012T103000
DTEND;TZID=America/New_York:20181012T170000
DTSTAMP:20260422T065446
CREATED:20180806T195259Z
LAST-MODIFIED:20200402T193006Z
UID:10611-1539340200-1539363600@econ.columbia.edu
SUMMARY:SWEET-NY 2018 (Student Workshop in Experimental Economics Techniques - New York)
DESCRIPTION:CELSS (Columbia Experimental Laboratory in the Social Sciences) is happy to announce SWEET-NY 2018 (Student Workshop in Experimental Economics Techniques – New York). \nThis is the third Columbia/NYU/Wharton/Princeton graduate students conference on experimental economics. This year the conference will be held at Columbia on October 12\, 2018. The conference will take place in Room 707 IAB from 10:30 a.m. to 5 p.m. and will be followed by drinks for all the participants (more details will follow). \nThe conference is coordinated by Alessandra Casella and Mark Dean (for Columbia)\, Guillaume Frechette and Andy Schotter (for NYU)\, Judd Kessler and Corinne Low (for Wharton)\, Pietro Ortoleva and Leeat Yariv (for Princeton). Both of the two past editions have been very successful\, and we would like to encourage anyone interested to attend. \nAll presentations will be by students. Students who would like to present should contact the faculty coordinators from their own university. \nAny questions regarding the conference can be directed to the Conference Organizers at: gmi2105@columbia.edu and sr3300@columbia.edu. \n  \n
URL:https://econ.columbia.edu/event/sweet-ny-2018-student-workshop-in-experimental-economics-techniques-new-york/
LOCATION:707 IAB
CATEGORIES:Seminar
END:VEVENT
END:VCALENDAR