BEGIN:VCALENDAR
VERSION:2.0
PRODID:-//Department of Economics at Columbia University - ECPv4.6.23//NONSGML v1.0//EN
CALSCALE:GREGORIAN
METHOD:PUBLISH
X-WR-CALNAME:Department of Economics at Columbia University
X-ORIGINAL-URL:https://econ.columbia.edu
X-WR-CALDESC:Events for Department of Economics at Columbia University
BEGIN:VEVENT
DTSTART;TZID=America/New_York:20250919T090000
DTEND;TZID=America/New_York:20250920T133000
DTSTAMP:20260422T234014
CREATED:20250814T184629Z
LAST-MODIFIED:20250918T131244Z
UID:40772-1758272400-1758375000@econ.columbia.edu
SUMMARY:Seventh Annual Columbia Conference on Economic Theory (CCET)
DESCRIPTION: The 7th Annual Columbia Conference on Economic Theory (CCET) will be held on Friday\, September 19\, 2025 – Saturday September 20\, 2025. The conference will be held in  Kravis Hall   (get directions).\n\n\nFaculty Organizers: \nEvan Sadler\, Wouter Dessein \nSchedule: \n\n\nFriday \n9:15 – 9:55 Breakfast\n9:55 – 10:00 Welcome Remarks\n10:00 – 10:45 Anton Kolotilin (UNSW Business School) —  “Many-to-One Matching with Transfers” (with Alex Wolitzky)\n10:45 – 11:00 Break\n11:00 – 11:45 Marco Battaglini (Cornell University) — “Dynamic Collective Action and the Power of Large Numbers” (with Thomas Palfrey)\n11:45 – 12:00 Break\n12:00 – 12:45 Rohan Dutta (McGill University) — “Random Choice Paths and Identification of the Random Utility Model” (with Yusufcan Masatlioglu)\n12:45 – 2:00 Lunch\n2:00 – 2:45 Nina Bobkova (Rice University) — “The Optimality of Majority Rule: An Information-Choice Perspective”\n2:45 – 3:00 Break\n3:00 – 3:45 Giacomo Lanzani (UC Berkeley) — “Nonlinear Fixed Points and Stationarity: Economic Applications”\n3.45 – 4:00 Break\n4:00 – 4:45 Benjamin Golub (Northwestern University) — “Incentive Design with Spillovers” \nSaturday\n8:45 – 9:30 Breakfast\n9:30 – 10:15 Moritz Meyer-ter-Vehn (UCLA) — “Simple Contagion Dynamics on Tree-like Networks” (with Simon Board)\n10:15 – 10:30 Break\n10:30 – 11:15 Matteo Camboni (University of Wisconsin) — “Inputs or Outputs: What to Test and How to Test” (with Christoph Carnehl)\n11:15 – 11:30 Break\n11:30 – 12:15 Kfir Eliaz (Tel Aviv University) — “Clerks”\n12:15 – 1:30 Lunch\n\nVenue:\nKravis Hall\, Columbia Business School\, Manhattanville Campus\n665 W 130th St\, New York\, NY 10027\nRoom 890\n\nMap of Manhattanville Campus:\n \nThis conference is sponsored by Columbia University’s Program for Economic Research (PER) and the Microeconomic Theory Initiative (MTI). \n
URL:https://econ.columbia.edu/event/seventh-annual-columbia-conference-on-economic-theory-ccet/
CATEGORIES:PER,PER Conferences,PER Events
END:VEVENT
END:VCALENDAR