BEGIN:VCALENDAR
VERSION:2.0
PRODID:-//Department of Economics at Columbia University - ECPv4.6.23//NONSGML v1.0//EN
CALSCALE:GREGORIAN
METHOD:PUBLISH
X-WR-CALNAME:Department of Economics at Columbia University
X-ORIGINAL-URL:https://econ.columbia.edu
X-WR-CALDESC:Events for Department of Economics at Columbia University
BEGIN:VEVENT
DTSTART;TZID=America/New_York:20180403T120000
DTEND;TZID=America/New_York:20180403T133000
DTSTAMP:20260422T215623
CREATED:20180227T185948Z
LAST-MODIFIED:20200402T184322Z
UID:5317-1522756800-1522762200@econ.columbia.edu
SUMMARY:Political Economy Seminar: Claire Lim
DESCRIPTION:
URL:https://econ.columbia.edu/event/political-economy-seminar-2-2018-04-03/
LOCATION:1027 IAB\, 420 W 118th st\, New York\, NY\, 10027\, United States
GEO:40.8076577;-73.9601933
X-APPLE-STRUCTURED-LOCATION;VALUE=URI;X-ADDRESS=1027 IAB 420 W 118th st New York NY 10027 United States;X-APPLE-RADIUS=500;X-TITLE=420 W 118th st:geo:-73.9601933,40.8076577
CATEGORIES:Political Economy Seminar,Seminar,Workshops
END:VEVENT
END:VCALENDAR