BEGIN:VCALENDAR
VERSION:2.0
PRODID:-//Department of Economics at Columbia University - ECPv4.6.23//NONSGML v1.0//EN
CALSCALE:GREGORIAN
METHOD:PUBLISH
X-WR-CALNAME:Department of Economics at Columbia University
X-ORIGINAL-URL:https://econ.columbia.edu
X-WR-CALDESC:Events for Department of Economics at Columbia University
BEGIN:VEVENT
DTSTART;TZID=America/New_York:20240926T150000
DTEND;TZID=America/New_York:20240926T163000
DTSTAMP:20260425T131917
CREATED:20240820T164020Z
LAST-MODIFIED:20241125T190639Z
UID:37443-1727362800-1727368200@econ.columbia.edu
SUMMARY:PER Distinguished Lecture with David Pearce: " Utility and All That."
DESCRIPTION:  \n \nDavid Pearce is a prominent game theorist and economist\, currently a professor at New York University. He is best known for his foundational contributions to the theory of games\, particularly in the areas of equilibrium concepts\, refinements\, and repeated games. Pearce’s work has significantly influenced the development of modern game theory\, especially through his exploration of how rational players form expectations and how these expectations influence their strategic decisions. Among his key contributions are the concepts of “rationalizability” and the recursive structures of dynamic game equilibria\, which have become fundamental tools in the analysis of strategic behavior in economics and other social sciences. \nProfessor Pearce notes: \n” Our neoclassical founding fathers were heavily influenced by logical positivism. This led them to formulations of individual and social welfare that do not serve us well. Examples discussed will include social choice theory as well as the inconsistency of optimal plans. “ \nIf you have any questions about this event\, please contact econ-per@columbia.edu.\nThis event is part of the PER Distinguished Lecture series. To view a full list of PER’s Distinguished Lecture series events\, please click here. \n   \n
URL:https://econ.columbia.edu/event/per-distinguished-lecture-with-david-pearce-utility-and-all-that/
LOCATION:Uris Hall\, Room 107\, 3022 Broadway\, New York\, NY\, 10027\, United States
CATEGORIES:PER,PER Distinguished Lecture Series,PER Events
END:VEVENT
END:VCALENDAR