BEGIN:VCALENDAR
VERSION:2.0
PRODID:-//Department of Economics at Columbia University - ECPv4.6.23//NONSGML v1.0//EN
CALSCALE:GREGORIAN
METHOD:PUBLISH
X-WR-CALNAME:Department of Economics at Columbia University
X-ORIGINAL-URL:https://econ.columbia.edu
X-WR-CALDESC:Events for Department of Economics at Columbia University
BEGIN:VEVENT
DTSTART;TZID=America/New_York:20180508T161500
DTEND;TZID=America/New_York:20180508T174500
DTSTAMP:20260422T142318
CREATED:20180227T212259Z
LAST-MODIFIED:20200402T191456Z
UID:5510-1525796100-1525801500@econ.columbia.edu
SUMMARY:Money-Macro Workshop: Marios Karabarbounis
DESCRIPTION:
URL:https://econ.columbia.edu/event/money-macro-workshop-first-last-2018-05-08/
LOCATION:1101 IAB\, 420 West 118th Street\, New York\, NY\, 10027\, United States
CATEGORIES:Money and Macro Workshop,Seminar,Workshops
END:VEVENT
END:VCALENDAR