BEGIN:VCALENDAR
VERSION:2.0
PRODID:-//Department of Economics at Columbia University - ECPv4.6.23//NONSGML v1.0//EN
CALSCALE:GREGORIAN
METHOD:PUBLISH
X-WR-CALNAME:Department of Economics at Columbia University
X-ORIGINAL-URL:https://econ.columbia.edu
X-WR-CALDESC:Events for Department of Economics at Columbia University
BEGIN:VEVENT
DTSTART;TZID=America/New_York:20180327T161500
DTEND;TZID=America/New_York:20180327T174500
DTSTAMP:20260423T064435
CREATED:20180227T212259Z
LAST-MODIFIED:20200402T184352Z
UID:5505-1522167300-1522172700@econ.columbia.edu
SUMMARY:Money-Macro Workshop: Emmanuel Farhi
DESCRIPTION:
URL:https://econ.columbia.edu/event/money-macro-workshop-first-last-2018-03-27/
LOCATION:1101 IAB\, 420 West 118th Street\, New York\, NY\, 10027\, United States
CATEGORIES:Money and Macro Workshop,Seminar,Workshops
END:VEVENT
END:VCALENDAR