BEGIN:VCALENDAR
VERSION:2.0
PRODID:-//Department of Economics at Columbia University - ECPv4.6.23//NONSGML v1.0//EN
CALSCALE:GREGORIAN
METHOD:PUBLISH
X-WR-CALNAME:Department of Economics at Columbia University
X-ORIGINAL-URL:https://econ.columbia.edu
X-WR-CALDESC:Events for Department of Economics at Columbia University
BEGIN:VEVENT
DTSTART;TZID=America/New_York:20180309T110000
DTEND;TZID=America/New_York:20180309T121500
DTSTAMP:20260423T070544
CREATED:20180227T213241Z
LAST-MODIFIED:20200402T183836Z
UID:5539-1520593200-1520597700@econ.columbia.edu
SUMMARY:Industrial Organization and Strategy Workshop: Andrew Sweeting
DESCRIPTION:
URL:https://econ.columbia.edu/event/industrial-organization-and-strategy-workshop-first-last-2018-03-06/
LOCATION:NYU-Kaufman Management Center (44 W. 4th St)\, 44 West 4th Street\, New York\, NY\, 10012\, United States
GEO:40.7288625;-73.9964132
X-APPLE-STRUCTURED-LOCATION;VALUE=URI;X-ADDRESS=NYU-Kaufman Management Center (44 W. 4th St) 44 West 4th Street New York NY 10012 United States;X-APPLE-RADIUS=500;X-TITLE=44 West 4th Street:geo:-73.9964132,40.7288625
CATEGORIES:IO, Organizations, & Strategy Workshop,Seminar,Workshops
END:VEVENT
END:VCALENDAR