BEGIN:VCALENDAR
VERSION:2.0
PRODID:-//Department of Economics at Columbia University - ECPv4.6.23//NONSGML v1.0//EN
CALSCALE:GREGORIAN
METHOD:PUBLISH
X-WR-CALNAME:Department of Economics at Columbia University
X-ORIGINAL-URL:https://econ.columbia.edu
X-WR-CALDESC:Events for Department of Economics at Columbia University
BEGIN:VEVENT
DTSTART;TZID=America/New_York:20180910T143000
DTEND;TZID=America/New_York:20180910T154500
DTSTAMP:20260422T124951
CREATED:20180821T165002Z
LAST-MODIFIED:20200402T192512Z
UID:11020-1536589800-1536594300@econ.columbia.edu
SUMMARY:Economic Theory Workshop: Jonathan Libgober
DESCRIPTION:
URL:https://econ.columbia.edu/event/economic-theory-workshop-2/
LOCATION:1101 IAB\, 420 West 118th Street\, New York\, NY\, 10027\, United States
CATEGORIES:Economic Theory Workshop,Seminar,Workshops
END:VEVENT
END:VCALENDAR