BEGIN:VCALENDAR
VERSION:2.0
PRODID:-//Department of Economics at Columbia University - ECPv4.6.23//NONSGML v1.0//EN
CALSCALE:GREGORIAN
METHOD:PUBLISH
X-WR-CALNAME:Department of Economics at Columbia University
X-ORIGINAL-URL:https://econ.columbia.edu
X-WR-CALDESC:Events for Department of Economics at Columbia University
BEGIN:VEVENT
DTSTART;TZID=America/New_York:20240416T173000
DTEND;TZID=America/New_York:20240416T183000
DTSTAMP:20260425T112019
CREATED:20240315T204503Z
LAST-MODIFIED:20240315T205005Z
UID:36355-1713288600-1713292200@econ.columbia.edu
SUMMARY:Celebration of the Mundell Professorship with Prof. Martín Uribe
DESCRIPTION:Amy Hungerford\, Dean and Executive Vice President of the Faculty of Arts and Sciences and Ruth Fulton Benedict Professor of English and Comparative Literature\, & Michael Woodford\, Chair of the Department of Economics and John Bates Clark Professor of Political Economy\, cordially invite you to a special event to celebrate the Robert A. Mundell Professorship and the appointment of the inaugural incumbent Professor Martín Uribe\, who will present his lecture “Optimal Currency Areas: Some Empirical Examples.” \nPlease RSVP by Friday\, April 5th to: Olivia Miller at om2393@columbia.edu \nEvent Contact Information:\nOlivia Miller\nom2393@columbia.edu \n
URL:https://econ.columbia.edu/event/celebration-of-the-mundell-professorship-with-prof-martin-uribe/
LOCATION:Faculty House\, 64 Morningside Dr.\, New York\, NY 10027 Room/Area: Presidential Room 1
ATTACH;FMTTYPE=image/png:https://sites.asit.columbia.edu/econdept/wp-content/uploads/sites/18/2024/03/Mundell-banner-1080x730.png
END:VEVENT
END:VCALENDAR