BEGIN:VCALENDAR
VERSION:2.0
PRODID:-//Department of Economics at Columbia University - ECPv4.6.23//NONSGML v1.0//EN
CALSCALE:GREGORIAN
METHOD:PUBLISH
X-WR-CALNAME:Department of Economics at Columbia University
X-ORIGINAL-URL:https://econ.columbia.edu
X-WR-CALDESC:Events for Department of Economics at Columbia University
BEGIN:VEVENT
DTSTART;VALUE=DATE:20190913
DTEND;VALUE=DATE:20190915
DTSTAMP:20260422T044700
CREATED:20190718T183018Z
LAST-MODIFIED:20200402T195501Z
UID:14559-1568332800-1568505599@econ.columbia.edu
SUMMARY:Third Annual Columbia Conference on Economic Theory (CCET)
DESCRIPTION:Venue:\nThe 3rd Columbia Conference on Economic Theory (CCET) will be held on September 13-14\, 2019. On Friday\, September 13th\, the conference will take place in 301 Uris Hall and on Saturday\, September 14th\, the conference will be held in 142 Uris Hall (get directions). \nFaculty Organizers:\nYeon-Koo Che & Evan Sadler \nPreliminary Schedule:\nFriday\, September 13th\n9:00AM: Breakfast and Registration\n9:55AM: Welcome Remarks\n10:00AM: Joel Sobel (UC San Diego)\, “Simultaneous Versus Sequential Disclosure” (Co-authored by Peicong (Keri) Hu)\n10:50AM: Coffee Break\n11:05AM: Rahul Deb (University of Toronto)\, “(Bad) Reputation in Relational Contracting” (Co-authored by Matt Mitchell and Mallesh Pai)\n11:55AM: Break\n12:10PM: Yingni Guo (Northwestern University)\, “Robust Monopoly Regulation” (Co-authored by Eran Shmaya)\n1:00PM: Lunch\n2:30PM: Jonathan Weinstein (Washington University in St. Louis)\, “Direct Complementarity”\n3:20PM: Coffee Break\n3:35PM: Nikhil Vellodi (Princeton)\, ”Ratings Design and Barriers to Entry”\n4:25PM: Break\n4:40PM: Faruk Gul (Princeton)\, “Mechanism Design and Walrasian Equilibrium” (Co-authored by Wolfgang Pesendorfer and Mu Zhang) \nSaturday\, September 14th\n8:00AM: Breakfast and Registration\n9:00AM: Sylvain Chassang (NYU)\, “Secure Survey Design in Organizations: Theory and Experiments” (Co-authored by Christian Zehnder)\n9:50AM: Coffee Break\n10:05AM: Doron Ravid (U Chicago)\, “Learning before Trading: On the Inefficiency of Ignoring Free Information” (Co-authored by Anne-Katrin Roesler and Balazs Szentes)\n10:55AM: Break\n11:10AM: Leeat Yariv (Princeton)\, “Who Cares More? Allocation with Diverse Preference Intensities” (Co-authored by Pietro Ortoleva and Evgenii Safonov)\n12:00PM: Coffee Break\n12:15PM: Alessandro Pavan (Northwestern University)\, “Searching for Arms” (Co-authored with Daniel Fershtman)\n1:05PM: Lunch \nRegistration:\nRegister to attend The 3rd Columbia Conference on Economic Theory (CCET) \nThis conference is sponsored by Columbia University’s Program for Economic Research (PER) and the Microeconomic Theory Initiative (MTI).\nLearn more about the 2nd Columbia Conference on Economic Theory (CCET) in 2018.\nPlease direct all questions to econ-per@columbia.edu. \n
URL:https://econ.columbia.edu/event/ccet2019/
LOCATION:Uris Hall\, 3022 Broadway\, New York\, NY\, 10027\, United States
CATEGORIES:PER,PER Conferences,PER Events
END:VEVENT
END:VCALENDAR