BEGIN:VCALENDAR
VERSION:2.0
PRODID:-//Department of Economics at Columbia University - ECPv4.6.23//NONSGML v1.0//EN
CALSCALE:GREGORIAN
METHOD:PUBLISH
X-WR-CALNAME:Department of Economics at Columbia University
X-ORIGINAL-URL:https://econ.columbia.edu
X-WR-CALDESC:Events for Department of Economics at Columbia University
BEGIN:VEVENT
DTSTART;TZID=America/New_York:20170406T180000
DTEND;TZID=America/New_York:20170406T190000
DTSTAMP:20260422T065542
CREATED:20170927T135257Z
LAST-MODIFIED:20200402T183337Z
UID:1038-1491501600-1491505200@econ.columbia.edu
SUMMARY:Ben Hayden\, "Neuronal Foundations of Economic Value"
DESCRIPTION:Value is a central concept in economic theory and in neuroeconomics. Nonetheless\, we have only recently begun to understand how the brain evaluates options and compares values to make beneficial choices. These processes appear to involve the coordinated action of multiple prefrontal and striatal regions acting together. Our work suggests that value is an emergent process that depends on the coordinated action of component processes\, including memory\, executive control\, and action selection. \n
URL:https://econ.columbia.edu/event/ben-hayden-neuronal-foundations-of-economic-value/
LOCATION:301 Uris Hall New York\, NY 10027\, 301 Uris Hall\, New York\, NY\, 10027\, United States
GEO:40.8089292;-73.9613646
X-APPLE-STRUCTURED-LOCATION;VALUE=URI;X-ADDRESS=301 Uris Hall New York NY 10027 301 Uris Hall New York NY 10027 United States;X-APPLE-RADIUS=500;X-TITLE=301 Uris Hall:geo:-73.9613646,40.8089292
CATEGORIES:Other
ATTACH;FMTTYPE=image/jpeg:https://sites.asit.columbia.edu/econdept/wp-content/uploads/sites/18/2017/09/cognition_and_decision_banner_image-600x193-622x215.jpg
END:VEVENT
END:VCALENDAR