BEGIN:VCALENDAR
VERSION:2.0
PRODID:-//Department of Economics at Columbia University - ECPv4.6.23//NONSGML v1.0//EN
CALSCALE:GREGORIAN
METHOD:PUBLISH
X-WR-CALNAME:Department of Economics at Columbia University
X-ORIGINAL-URL:https://econ.columbia.edu
X-WR-CALDESC:Events for Department of Economics at Columbia University
BEGIN:VEVENT
DTSTART;TZID=America/New_York:20180328T161500
DTEND;TZID=America/New_York:20180328T174500
DTSTAMP:20260423T034359
CREATED:20180227T201535Z
LAST-MODIFIED:20200402T184341Z
UID:5412-1522253700-1522259100@econ.columbia.edu
SUMMARY:Applied Micro & Labor Workshop: Gerard Roland
DESCRIPTION:
URL:https://econ.columbia.edu/event/applied-micro-labor-workshop-first-last-2018-03-28/
LOCATION:1101 IAB\, 420 West 118th Street\, New York\, NY\, 10027\, United States
CATEGORIES:Applied Micro & Labor Workshop,Seminar,Workshops
END:VEVENT
END:VCALENDAR